BEGIN:VCALENDAR
VERSION:2.0
PRODID:-//House of Shine - ECPv6.15.20//NONSGML v1.0//EN
CALSCALE:GREGORIAN
METHOD:PUBLISH
X-WR-CALNAME:House of Shine
X-ORIGINAL-URL:https://www.houseofshine.org
X-WR-CALDESC:Events for House of Shine
REFRESH-INTERVAL;VALUE=DURATION:PT1H
X-Robots-Tag:noindex
X-PUBLISHED-TTL:PT1H
BEGIN:VTIMEZONE
TZID:America/Chicago
BEGIN:DAYLIGHT
TZOFFSETFROM:-0600
TZOFFSETTO:-0500
TZNAME:CDT
DTSTART:20250309T080000
END:DAYLIGHT
BEGIN:STANDARD
TZOFFSETFROM:-0500
TZOFFSETTO:-0600
TZNAME:CST
DTSTART:20251102T070000
END:STANDARD
BEGIN:DAYLIGHT
TZOFFSETFROM:-0600
TZOFFSETTO:-0500
TZNAME:CDT
DTSTART:20260308T080000
END:DAYLIGHT
BEGIN:STANDARD
TZOFFSETFROM:-0500
TZOFFSETTO:-0600
TZNAME:CST
DTSTART:20261101T070000
END:STANDARD
BEGIN:DAYLIGHT
TZOFFSETFROM:-0600
TZOFFSETTO:-0500
TZNAME:CDT
DTSTART:20270314T080000
END:DAYLIGHT
BEGIN:STANDARD
TZOFFSETFROM:-0500
TZOFFSETTO:-0600
TZNAME:CST
DTSTART:20271107T070000
END:STANDARD
END:VTIMEZONE
BEGIN:VEVENT
DTSTART;TZID=America/Chicago:20260608T090000
DTEND;TZID=America/Chicago:20260612T170000
DTSTAMP:20260420T082023
CREATED:20260420T131302Z
LAST-MODIFIED:20260420T131302Z
UID:58320-1780909200-1781283600@www.houseofshine.org
SUMMARY:Stand-Up & SHINE Camps - Beginner Camp
DESCRIPTION:Empowering students ages 10-14 to explore their strengths\, build confidence\, and SHINE on stage through storytelling and stand-up comedy!
URL:https://www.houseofshine.org/event/stand-up-shine-camps-beginner-camp/
CATEGORIES:Education,Events
ATTACH;FMTTYPE=image/jpeg:https://www.houseofshine.org/wp-content/uploads/2026/02/httpscdnevbuccomimages117854585025915451863111original20260226-193435.jpeg
END:VEVENT
END:VCALENDAR