BEGIN:VCALENDAR
VERSION:2.0
PRODID:-//House of Shine - ECPv6.15.20//NONSGML v1.0//EN
CALSCALE:GREGORIAN
METHOD:PUBLISH
X-WR-CALNAME:House of Shine
X-ORIGINAL-URL:https://www.houseofshine.org
X-WR-CALDESC:Events for House of Shine
REFRESH-INTERVAL;VALUE=DURATION:PT1H
X-Robots-Tag:noindex
X-PUBLISHED-TTL:PT1H
BEGIN:VTIMEZONE
TZID:America/Chicago
BEGIN:DAYLIGHT
TZOFFSETFROM:-0600
TZOFFSETTO:-0500
TZNAME:CDT
DTSTART:20250309T080000
END:DAYLIGHT
BEGIN:STANDARD
TZOFFSETFROM:-0500
TZOFFSETTO:-0600
TZNAME:CST
DTSTART:20251102T070000
END:STANDARD
BEGIN:DAYLIGHT
TZOFFSETFROM:-0600
TZOFFSETTO:-0500
TZNAME:CDT
DTSTART:20260308T080000
END:DAYLIGHT
BEGIN:STANDARD
TZOFFSETFROM:-0500
TZOFFSETTO:-0600
TZNAME:CST
DTSTART:20261101T070000
END:STANDARD
BEGIN:DAYLIGHT
TZOFFSETFROM:-0600
TZOFFSETTO:-0500
TZNAME:CDT
DTSTART:20270314T080000
END:DAYLIGHT
BEGIN:STANDARD
TZOFFSETFROM:-0500
TZOFFSETTO:-0600
TZNAME:CST
DTSTART:20271107T070000
END:STANDARD
END:VTIMEZONE
BEGIN:VEVENT
DTSTART;TZID=America/Chicago:20260530T100000
DTEND;TZID=America/Chicago:20260530T130000
DTSTAMP:20260420T082024
CREATED:20260420T131254Z
LAST-MODIFIED:20260420T131254Z
UID:58364-1780135200-1780146000@www.houseofshine.org
SUMMARY:Spread SHINE in Grapevine
DESCRIPTION:Join House of Shine for a community-wide summer adventure that blends our Journey Stick\, Serentripity\, and Open House program offerings!
URL:https://www.houseofshine.org/event/spread-shine-in-grapevine/
CATEGORIES:Education,Events
ATTACH;FMTTYPE=image/jpeg:https://www.houseofshine.org/wp-content/uploads/2026/04/httpscdnevbuccomimages118153160925915451863111original20260406-192243.jpeg
END:VEVENT
END:VCALENDAR