BEGIN:VCALENDAR
VERSION:2.0
PRODID:-//House of Shine - ECPv6.15.20//NONSGML v1.0//EN
CALSCALE:GREGORIAN
METHOD:PUBLISH
X-WR-CALNAME:House of Shine
X-ORIGINAL-URL:https://www.houseofshine.org
X-WR-CALDESC:Events for House of Shine
REFRESH-INTERVAL;VALUE=DURATION:PT1H
X-Robots-Tag:noindex
X-PUBLISHED-TTL:PT1H
BEGIN:VTIMEZONE
TZID:America/Chicago
BEGIN:DAYLIGHT
TZOFFSETFROM:-0600
TZOFFSETTO:-0500
TZNAME:CDT
DTSTART:20250309T080000
END:DAYLIGHT
BEGIN:STANDARD
TZOFFSETFROM:-0500
TZOFFSETTO:-0600
TZNAME:CST
DTSTART:20251102T070000
END:STANDARD
BEGIN:DAYLIGHT
TZOFFSETFROM:-0600
TZOFFSETTO:-0500
TZNAME:CDT
DTSTART:20260308T080000
END:DAYLIGHT
BEGIN:STANDARD
TZOFFSETFROM:-0500
TZOFFSETTO:-0600
TZNAME:CST
DTSTART:20261101T070000
END:STANDARD
BEGIN:DAYLIGHT
TZOFFSETFROM:-0600
TZOFFSETTO:-0500
TZNAME:CDT
DTSTART:20270314T080000
END:DAYLIGHT
BEGIN:STANDARD
TZOFFSETFROM:-0500
TZOFFSETTO:-0600
TZNAME:CST
DTSTART:20271107T070000
END:STANDARD
END:VTIMEZONE
BEGIN:VEVENT
DTSTART;TZID=America/Chicago:20260421T100000
DTEND;TZID=America/Chicago:20260421T120000
DTSTAMP:20260419T113330
CREATED:20260419T163011Z
LAST-MODIFIED:20260419T163011Z
UID:10001329-1776765600-1776772800@www.houseofshine.org
SUMMARY:Coffee & Conversation: Practice English through Conversation and Community
DESCRIPTION:This class is for intermediate or advanced English speakers.
URL:https://www.houseofshine.org/event/coffee-conversation-practice-english-through-conversation-and-community/
CATEGORIES:Events
ATTACH;FMTTYPE=image/png:https://www.houseofshine.org/wp-content/uploads/2024/10/httpscdnevbuccomimages88104057323764929711131original20241022-212703.png
END:VEVENT
BEGIN:VEVENT
DTSTART;TZID=America/Chicago:20260421T173000
DTEND;TZID=America/Chicago:20260421T193000
DTSTAMP:20260419T113330
CREATED:20260419T163011Z
LAST-MODIFIED:20260419T163013Z
UID:10001363-1776792600-1776799800@www.houseofshine.org
SUMMARY:SHINE U: Wine & Cheese Pairing Experience
DESCRIPTION:Sip\, savor\, and learn the art of pairing with a sommelier from Hotel Vin
URL:https://www.houseofshine.org/event/shine-u-wine-cheese-pairing-experience/
CATEGORIES:Events
ATTACH;FMTTYPE=image/jpeg:https://www.houseofshine.org/wp-content/uploads/2026/03/httpscdnevbuccomimages118110588629924325841621original20260331-154529.jpeg
END:VEVENT
BEGIN:VEVENT
DTSTART;TZID=America/Chicago:20260423T123000
DTEND;TZID=America/Chicago:20260423T133000
DTSTAMP:20260419T113330
CREATED:20260419T163015Z
LAST-MODIFIED:20260419T163015Z
UID:10001330-1776947400-1776951000@www.houseofshine.org
SUMMARY:Lunch & Learn
DESCRIPTION:Enjoy a complimentary lunch while learning how House of Shine is building brighter communities through the portal of our newest addition.
URL:https://www.houseofshine.org/event/lunch-learn/
CATEGORIES:Career,Events
ATTACH;FMTTYPE=image/jpeg:https://www.houseofshine.org/wp-content/uploads/2025/06/httpscdnevbuccomimages105113747327289760047411original20250611-201636.jpeg
END:VEVENT
BEGIN:VEVENT
DTSTART;TZID=America/Chicago:20260423T163000
DTEND;TZID=America/Chicago:20260423T183000
DTSTAMP:20260419T113330
CREATED:20260419T163015Z
LAST-MODIFIED:20260419T163017Z
UID:10001331-1776961800-1776969000@www.houseofshine.org
SUMMARY:Volunteer Weekdays
DESCRIPTION:Do you appreciate a Shine moment?
URL:https://www.houseofshine.org/event/volunteer-weekdays/
CATEGORIES:Events,Other
ATTACH;FMTTYPE=image/jpeg:https://www.houseofshine.org/wp-content/uploads/2023/02/httpscdnevbuccomimages4515242491920692679031original20210827-183713.jpeg
END:VEVENT
BEGIN:VEVENT
DTSTART;TZID=America/Chicago:20260423T190000
DTEND;TZID=America/Chicago:20260423T203000
DTSTAMP:20260419T113330
CREATED:20260419T163018Z
LAST-MODIFIED:20260419T163018Z
UID:10001332-1776970800-1776976200@www.houseofshine.org
SUMMARY:Rise and Shine Season 11: PM Edition
DESCRIPTION:Unwind\, reflect\, and connect in Rise & Shine: PM Edition—an inspiring online space for women ready to grow together.
URL:https://www.houseofshine.org/event/rise-and-shine-season-11-pm-edition/
CATEGORIES:Events,Other
ATTACH;FMTTYPE=image/jpeg:https://www.houseofshine.org/wp-content/uploads/2025/10/httpscdnevbuccomimages114941142322479301370631original20251009-201933.jpeg
END:VEVENT
BEGIN:VEVENT
DTSTART;TZID=America/Chicago:20260425T100000
DTEND;TZID=America/Chicago:20260425T130000
DTSTAMP:20260419T113330
CREATED:20260419T163018Z
LAST-MODIFIED:20260419T163020Z
UID:10001333-1777111200-1777122000@www.houseofshine.org
SUMMARY:4th Annual Change Bowl and Reception
DESCRIPTION:Join us for the 4th Annual Change Bowl as young visionaries pitch ideas to transform their communities. Be part of the impact!
URL:https://www.houseofshine.org/event/4th-annual-change-bowl-and-reception/
CATEGORIES:Events,Other
ATTACH;FMTTYPE=image/jpeg:https://www.houseofshine.org/wp-content/uploads/2026/03/httpscdnevbuccomimages117916566022479301370631original20260306-002624.jpeg
END:VEVENT
BEGIN:VEVENT
DTSTART;TZID=America/Chicago:20260426T140000
DTEND;TZID=America/Chicago:20260426T160000
DTSTAMP:20260419T113330
CREATED:20260419T163022Z
LAST-MODIFIED:20260419T163022Z
UID:10001365-1777212000-1777219200@www.houseofshine.org
SUMMARY:CRAFT & YAP Bedazzling Edition
DESCRIPTION:Do you like to bedazzle everything? Or do you want to learn how? Bring you favorite book or anything you’d like to stick gems on!
URL:https://www.houseofshine.org/event/craft-yap-bedazzling-edition/
CATEGORIES:DIY,Events
ATTACH;FMTTYPE=image/jpeg:https://www.houseofshine.org/wp-content/uploads/2026/04/httpscdnevbuccomimages11813140741920692679031original20260402-180248.jpeg
END:VEVENT
BEGIN:VEVENT
DTSTART;TZID=America/Chicago:20260428T100000
DTEND;TZID=America/Chicago:20260428T120000
DTSTAMP:20260419T113330
CREATED:20260419T163022Z
LAST-MODIFIED:20260419T163023Z
UID:10001334-1777370400-1777377600@www.houseofshine.org
SUMMARY:Coffee & Conversation: Practice English through Conversation and Community
DESCRIPTION:This class is for intermediate or advanced English speakers.
URL:https://www.houseofshine.org/event/coffee-conversation-practice-english-through-conversation-and-community-2/
CATEGORIES:Events
ATTACH;FMTTYPE=image/png:https://www.houseofshine.org/wp-content/uploads/2024/10/httpscdnevbuccomimages88104057323764929711131original20241022-212703.png
END:VEVENT
BEGIN:VEVENT
DTSTART;TZID=America/Chicago:20260430T163000
DTEND;TZID=America/Chicago:20260430T183000
DTSTAMP:20260419T113330
CREATED:20260419T163025Z
LAST-MODIFIED:20260419T163025Z
UID:10001335-1777566600-1777573800@www.houseofshine.org
SUMMARY:Volunteer Weekdays
DESCRIPTION:Do you appreciate a Shine moment?
URL:https://www.houseofshine.org/event/volunteer-weekdays-2/
CATEGORIES:Events,Other
ATTACH;FMTTYPE=image/jpeg:https://www.houseofshine.org/wp-content/uploads/2023/02/httpscdnevbuccomimages4515242491920692679031original20210827-183713.jpeg
END:VEVENT
END:VCALENDAR